Name | Last modified | Size | Description | |
---|---|---|---|---|
Parent Directory | - | |||
buildbin-out.txt | 10-Jul-2024 06:44 | 1.5K | ||
buildbin-summary.dcf | 10-Jul-2024 06:44 | 524 | ||
checksrc-summary.dcf | 10-Jul-2024 06:44 | 446 | ||
checksrc-out.txt | 10-Jul-2024 06:44 | 4.8K | ||
buildsrc-summary.dcf | 10-Jul-2024 06:44 | 425 | ||
buildsrc-out.txt | 10-Jul-2024 06:44 | 875 | ||
install-summary.dcf | 10-Jul-2024 06:44 | 267 | ||
install-out.txt | 10-Jul-2024 06:44 | 1.3K | ||