Name | Last modified | Size | Description | |
---|---|---|---|---|
Parent Directory | - | |||
checksrc-out.txt | 03-Jul-2024 23:21 | 3.2K | ||
buildbin-out.txt | 03-Jul-2024 23:21 | 1.2K | ||
install-out.txt | 03-Jul-2024 23:21 | 1.0K | ||
buildsrc-out.txt | 03-Jul-2024 23:21 | 939 | ||
buildbin-summary.dcf | 03-Jul-2024 23:21 | 635 | ||
buildsrc-summary.dcf | 03-Jul-2024 23:21 | 533 | ||
checksrc-summary.dcf | 03-Jul-2024 23:21 | 527 | ||
install-summary.dcf | 03-Jul-2024 23:21 | 308 | ||