Name | Last modified | Size | Description | |
---|---|---|---|---|
Parent Directory | - | |||
buildsrc-out.txt | 19-Jun-2024 06:58 | 886 | ||
buildsrc-summary.dcf | 19-Jun-2024 06:58 | 475 | ||
checksrc-out.txt | 19-Jun-2024 06:58 | 3.2K | ||
checksrc-summary.dcf | 19-Jun-2024 06:58 | 494 | ||
install-out.txt | 19-Jun-2024 06:58 | 1.0K | ||
install-summary.dcf | 19-Jun-2024 06:58 | 299 | ||