Name | Last modified | Size | Description | |
---|---|---|---|---|
Parent Directory | - | |||
buildbin-out.txt | 10-Jul-2024 06:44 | 1.2K | ||
buildbin-summary.dcf | 10-Jul-2024 06:44 | 572 | ||
buildsrc-out.txt | 10-Jul-2024 06:44 | 844 | ||
buildsrc-summary.dcf | 10-Jul-2024 06:44 | 448 | ||
checksrc-out.txt | 10-Jul-2024 06:44 | 5.4K | ||
checksrc-summary.dcf | 10-Jul-2024 06:44 | 478 | ||
install-out.txt | 10-Jul-2024 06:44 | 1.0K | ||
install-summary.dcf | 10-Jul-2024 06:44 | 283 | ||