Name | Last modified | Size | Description | |
---|---|---|---|---|
Parent Directory | - | |||
checksrc-out.txt | 22-Jun-2024 06:41 | 8.1K | ||
checksrc-summary.dcf | 22-Jun-2024 06:41 | 455 | ||
buildbin-out.txt | 22-Jun-2024 06:41 | 12K | ||
buildbin-summary.dcf | 22-Jun-2024 06:41 | 539 | ||
install-out.txt | 26-Jun-2024 06:42 | 9.5K | ||
install-summary.dcf | 26-Jun-2024 06:42 | 273 | ||
buildsrc-out.txt | 26-Jun-2024 06:42 | 1.2K | ||
buildsrc-summary.dcf | 26-Jun-2024 06:42 | 347 | ||