Name | Last modified | Size | Description | |
---|---|---|---|---|
Parent Directory | - | |||
kjohnson1/ | 19-Jun-2024 07:02 | - | ||
kjohnson3/ | 12-Jun-2024 03:44 | - | ||
kunpeng2/ | 10-May-2024 00:41 | - | ||
lconway/ | 12-Jun-2024 03:43 | - | ||
merida1/ | 19-Jun-2024 07:00 | - | ||
nebbiolo1/ | 19-Jun-2024 06:58 | - | ||
palomino3/ | 19-Jun-2024 06:59 | - | ||
info.dcf | 19-Jun-2024 06:57 | 300 | ||