Name | Last modified | Size | Description | |
---|---|---|---|---|
Parent Directory | - | |||
buildsrc-out.txt | 10-Jul-2024 06:39 | 1.2K | ||
buildsrc-summary.dcf | 10-Jul-2024 06:39 | 448 | ||
checksrc-out.txt | 10-Jul-2024 06:39 | 4.7K | ||
checksrc-summary.dcf | 10-Jul-2024 06:39 | 454 | ||
install-out.txt | 10-Jul-2024 06:39 | 1.0K | ||
install-summary.dcf | 10-Jul-2024 06:39 | 279 | ||