Index of /checkResults/release/bioc-LATEST/SimBindProfiles/raw-results/palomino7
Name
Last modified
Size
Description
Parent Directory
-
buildsrc-out.txt
03-Jul-2024 23:20
972
buildsrc-summary.dcf
03-Jul-2024 23:20
391
install-out.txt
03-Jul-2024 23:20
640
install-summary.dcf
03-Jul-2024 23:20
286