Index of /checkResults/release/bioc-LATEST/SimBindProfiles/raw-results/merida1
Name
Last modified
Size
Description
Parent Directory
-
buildsrc-out.txt
03-Jul-2024 23:22
929
buildsrc-summary.dcf
03-Jul-2024 23:22
358
install-out.txt
03-Jul-2024 23:22
717
install-summary.dcf
03-Jul-2024 23:22
287