Name | Last modified | Size | Description | |
---|---|---|---|---|
Parent Directory | - | |||
buildbin-out.txt | 26-Jun-2024 06:41 | 14K | ||
buildbin-summary.dcf | 26-Jun-2024 06:41 | 528 | ||
buildsrc-out.txt | 26-Jun-2024 06:41 | 1.0K | ||
buildsrc-summary.dcf | 26-Jun-2024 06:41 | 460 | ||
checksrc-out.txt | 26-Jun-2024 06:41 | 6.8K | ||
checksrc-summary.dcf | 26-Jun-2024 06:41 | 462 | ||
install-out.txt | 26-Jun-2024 06:41 | 14K | ||
install-summary.dcf | 26-Jun-2024 06:41 | 273 | ||