Name | Last modified | Size | Description | |
---|---|---|---|---|
Parent Directory | - | |||
buildbin-out.txt | 26-Jun-2024 06:42 | 18K | ||
buildbin-summary.dcf | 26-Jun-2024 06:42 | 542 | ||
buildsrc-out.txt | 26-Jun-2024 06:42 | 902 | ||
buildsrc-summary.dcf | 26-Jun-2024 06:42 | 433 | ||
checksrc-out.txt | 26-Jun-2024 06:42 | 6.7K | ||
checksrc-summary.dcf | 26-Jun-2024 06:42 | 458 | ||
install-out.txt | 26-Jun-2024 06:42 | 16K | ||
install-summary.dcf | 26-Jun-2024 06:42 | 274 | ||