Name | Last modified | Size | Description | |
---|---|---|---|---|
Parent Directory | - | |||
buildbin-out.txt | 12-Jun-2024 03:44 | 18K | ||
buildbin-summary.dcf | 12-Jun-2024 03:44 | 543 | ||
buildsrc-out.txt | 12-Jun-2024 03:44 | 902 | ||
buildsrc-summary.dcf | 12-Jun-2024 03:44 | 433 | ||
checksrc-out.txt | 12-Jun-2024 03:44 | 6.6K | ||
checksrc-summary.dcf | 12-Jun-2024 03:44 | 458 | ||
install-out.txt | 12-Jun-2024 03:44 | 16K | ||
install-summary.dcf | 12-Jun-2024 03:44 | 273 | ||