Name | Last modified | Size | Description | |
---|---|---|---|---|
Parent Directory | - | |||
buildbin-out.txt | 26-Jun-2024 06:44 | 4.5K | ||
buildbin-summary.dcf | 26-Jun-2024 06:44 | 553 | ||
buildsrc-out.txt | 26-Jun-2024 06:44 | 925 | ||
buildsrc-summary.dcf | 26-Jun-2024 06:44 | 437 | ||
checksrc-out.txt | 26-Jun-2024 06:44 | 4.0K | ||
checksrc-summary.dcf | 26-Jun-2024 06:44 | 465 | ||
install-out.txt | 26-Jun-2024 06:44 | 2.5K | ||
install-summary.dcf | 26-Jun-2024 06:44 | 276 | ||