Name | Last modified | Size | Description | |
---|---|---|---|---|
Parent Directory | - | |||
buildbin-out.txt | 26-Jun-2024 06:42 | 50K | ||
buildbin-summary.dcf | 26-Jun-2024 06:42 | 536 | ||
buildsrc-out.txt | 26-Jun-2024 06:42 | 850 | ||
buildsrc-summary.dcf | 26-Jun-2024 06:42 | 431 | ||
checksrc-out.txt | 26-Jun-2024 06:42 | 6.0K | ||
checksrc-summary.dcf | 26-Jun-2024 06:42 | 454 | ||
install-out.txt | 26-Jun-2024 06:42 | 50K | ||
install-summary.dcf | 26-Jun-2024 06:42 | 271 | ||