Index of /checkResults/release/bioc-LATEST/SGCP/raw-results/palomino7
Name
Last modified
Size
Description
Parent Directory
-
buildsrc-out.txt
03-Jul-2024 23:20
1.1K
buildsrc-summary.dcf
03-Jul-2024 23:20
358
install-out.txt
03-Jul-2024 23:20
962
install-summary.dcf
03-Jul-2024 23:20
261