Name | Last modified | Size | Description | |
---|---|---|---|---|
Parent Directory | - | |||
buildbin-out.txt | 23-Feb-2024 02:48 | 1.0K | ||
buildbin-summary.dcf | 23-Feb-2024 02:48 | 494 | ||
buildsrc-out.txt | 29-Jun-2024 06:42 | 1.1K | ||
buildsrc-summary.dcf | 29-Jun-2024 06:42 | 358 | ||
checksrc-out.txt | 23-Feb-2024 02:48 | 3.1K | ||
checksrc-summary.dcf | 23-Feb-2024 02:48 | 433 | ||
install-out.txt | 29-Jun-2024 06:42 | 962 | ||
install-summary.dcf | 29-Jun-2024 06:42 | 261 | ||