Name | Last modified | Size | Description | |
---|---|---|---|---|
Parent Directory | - | |||
buildbin-out.txt | 03-Jul-2024 23:20 | 1.0K | ||
buildbin-summary.dcf | 03-Jul-2024 23:20 | 494 | ||
buildsrc-out.txt | 03-Jul-2024 23:20 | 883 | ||
buildsrc-summary.dcf | 03-Jul-2024 23:20 | 439 | ||
checksrc-out.txt | 03-Jul-2024 23:20 | 5.6K | ||
checksrc-summary.dcf | 03-Jul-2024 23:20 | 433 | ||
install-out.txt | 03-Jul-2024 23:20 | 962 | ||
install-summary.dcf | 03-Jul-2024 23:20 | 261 | ||