Index of /checkResults/release/bioc-LATEST/SANTA/raw-results/palomino7
Name
Last modified
Size
Description
Parent Directory
-
buildsrc-out.txt
03-Jul-2024 23:20
1.8K
buildsrc-summary.dcf
03-Jul-2024 23:20
362
install-out.txt
03-Jul-2024 23:20
1.9K
install-summary.dcf
03-Jul-2024 23:20
264