Name | Last modified | Size | Description | |
---|---|---|---|---|
Parent Directory | - | |||
buildbin-out.txt | 07-Apr-2024 00:38 | 2.1K | ||
buildbin-summary.dcf | 07-Apr-2024 00:38 | 503 | ||
buildsrc-out.txt | 29-Jun-2024 06:42 | 1.8K | ||
buildsrc-summary.dcf | 29-Jun-2024 06:42 | 362 | ||
checksrc-out.txt | 07-Apr-2024 00:38 | 4.0K | ||
checksrc-summary.dcf | 07-Apr-2024 00:38 | 438 | ||
install-out.txt | 29-Jun-2024 06:42 | 1.9K | ||
install-summary.dcf | 29-Jun-2024 06:42 | 264 | ||