Name | Last modified | Size | Description | |
---|---|---|---|---|
Parent Directory | - | |||
buildbin-out.txt | 17-Jul-2024 06:40 | 25K | ||
buildbin-summary.dcf | 17-Jul-2024 06:40 | 526 | ||
buildsrc-out.txt | 17-Jul-2024 06:40 | 881 | ||
buildsrc-summary.dcf | 17-Jul-2024 06:40 | 461 | ||
checksrc-out.txt | 17-Jul-2024 06:40 | 6.4K | ||
checksrc-summary.dcf | 17-Jul-2024 06:40 | 461 | ||
install-out.txt | 17-Jul-2024 06:40 | 24K | ||
install-summary.dcf | 17-Jul-2024 06:40 | 272 | ||