Name | Last modified | Size | Description | |
---|---|---|---|---|
Parent Directory | - | |||
buildsrc-out.txt | 03-Jul-2024 23:19 | 872 | ||
buildsrc-summary.dcf | 03-Jul-2024 23:19 | 445 | ||
checksrc-out.txt | 03-Jul-2024 23:19 | 4.8K | ||
checksrc-summary.dcf | 03-Jul-2024 23:19 | 450 | ||
install-out.txt | 03-Jul-2024 23:19 | 2.5K | ||
install-summary.dcf | 03-Jul-2024 23:19 | 277 | ||