Name | Last modified | Size | Description | |
---|---|---|---|---|
Parent Directory | - | |||
buildsrc-out.txt | 03-Jul-2024 23:19 | 869 | ||
buildsrc-summary.dcf | 03-Jul-2024 23:19 | 417 | ||
checksrc-out.txt | 03-Jul-2024 23:19 | 4.1K | ||
checksrc-summary.dcf | 03-Jul-2024 23:19 | 413 | ||
install-out.txt | 03-Jul-2024 23:19 | 968 | ||
install-summary.dcf | 03-Jul-2024 23:19 | 259 | ||