Name | Last modified | Size | Description | |
---|---|---|---|---|
Parent Directory | - | |||
buildbin-out.txt | 29-Jun-2024 06:42 | 1.1K | ||
buildbin-summary.dcf | 29-Jun-2024 06:42 | 526 | ||
buildsrc-out.txt | 29-Jun-2024 06:42 | 886 | ||
buildsrc-summary.dcf | 29-Jun-2024 06:42 | 461 | ||
checksrc-out.txt | 29-Jun-2024 06:42 | 12K | ||
checksrc-summary.dcf | 29-Jun-2024 06:42 | 455 | ||
install-out.txt | 29-Jun-2024 06:42 | 968 | ||
install-summary.dcf | 29-Jun-2024 06:42 | 272 | ||