Name | Last modified | Size | Description | |
---|---|---|---|---|
Parent Directory | - | |||
buildsrc-out.txt | 13-Jul-2024 06:39 | 854 | ||
buildsrc-summary.dcf | 13-Jul-2024 06:39 | 423 | ||
checksrc-out.txt | 13-Jul-2024 06:39 | 12K | ||
checksrc-summary.dcf | 13-Jul-2024 06:39 | 422 | ||
install-out.txt | 13-Jul-2024 06:39 | 958 | ||
install-summary.dcf | 13-Jul-2024 06:39 | 263 | ||