Name | Last modified | Size | Description | |
---|---|---|---|---|
Parent Directory | - | |||
install-summary.dcf | 13-Jul-2024 06:41 | 274 | ||
buildsrc-summary.dcf | 13-Jul-2024 06:41 | 434 | ||
checksrc-summary.dcf | 13-Jul-2024 06:41 | 452 | ||
buildbin-summary.dcf | 13-Jul-2024 06:41 | 543 | ||
buildsrc-out.txt | 13-Jul-2024 06:41 | 864 | ||
install-out.txt | 13-Jul-2024 06:41 | 1.0K | ||
buildbin-out.txt | 13-Jul-2024 06:41 | 1.2K | ||
checksrc-out.txt | 13-Jul-2024 06:41 | 12K | ||