Name | Last modified | Size | Description | |
---|---|---|---|---|
Parent Directory | - | |||
install-summary.dcf | 17-Jul-2024 06:40 | 301 | ||
install-out.txt | 17-Jul-2024 06:40 | 14K | ||
checksrc-summary.dcf | 17-Jul-2024 06:40 | 478 | ||
checksrc-out.txt | 17-Jul-2024 06:40 | 4.8K | ||
buildsrc-summary.dcf | 17-Jul-2024 06:40 | 485 | ||
buildsrc-out.txt | 17-Jul-2024 06:40 | 1.0K | ||
buildbin-summary.dcf | 17-Jul-2024 06:40 | 546 | ||
buildbin-out.txt | 17-Jul-2024 06:40 | 13K | ||