Name | Last modified | Size | Description | |
---|---|---|---|---|
Parent Directory | - | |||
install-summary.dcf | 29-Jun-2024 06:42 | 301 | ||
install-out.txt | 29-Jun-2024 06:42 | 14K | ||
checksrc-summary.dcf | 29-Jun-2024 06:42 | 479 | ||
checksrc-out.txt | 29-Jun-2024 06:42 | 4.8K | ||
buildsrc-summary.dcf | 29-Jun-2024 06:42 | 485 | ||
buildsrc-out.txt | 29-Jun-2024 06:42 | 1.0K | ||
buildbin-summary.dcf | 29-Jun-2024 06:42 | 546 | ||
buildbin-out.txt | 29-Jun-2024 06:42 | 13K | ||