Name | Last modified | Size | Description | |
---|---|---|---|---|
Parent Directory | - | |||
install-out.txt | 13-Jul-2024 06:39 | 20K | ||
install-summary.dcf | 13-Jul-2024 06:39 | 258 | ||
buildsrc-summary.dcf | 13-Jul-2024 06:39 | 415 | ||
buildsrc-out.txt | 13-Jul-2024 06:39 | 835 | ||
checksrc-summary.dcf | 13-Jul-2024 06:39 | 411 | ||
checksrc-out.txt | 13-Jul-2024 06:39 | 4.7K | ||