Name | Last modified | Size | Description | |
---|---|---|---|---|
Parent Directory | - | |||
install-summary.dcf | 12-Jun-2024 03:44 | 268 | ||
buildsrc-summary.dcf | 12-Jun-2024 03:44 | 424 | ||
checksrc-summary.dcf | 12-Jun-2024 03:44 | 441 | ||
buildbin-summary.dcf | 12-Jun-2024 03:44 | 526 | ||
buildsrc-out.txt | 12-Jun-2024 03:44 | 845 | ||
checksrc-out.txt | 12-Jun-2024 03:44 | 4.9K | ||
install-out.txt | 12-Jun-2024 03:44 | 15K | ||
buildbin-out.txt | 12-Jun-2024 03:44 | 16K | ||