Name | Last modified | Size | Description | |
---|---|---|---|---|
Parent Directory | - | |||
install-out.txt | 13-Jul-2024 06:42 | 15K | ||
install-summary.dcf | 13-Jul-2024 06:42 | 268 | ||
buildsrc-out.txt | 13-Jul-2024 06:42 | 845 | ||
buildsrc-summary.dcf | 13-Jul-2024 06:42 | 424 | ||
checksrc-out.txt | 13-Jul-2024 06:42 | 4.9K | ||
checksrc-summary.dcf | 13-Jul-2024 06:42 | 441 | ||
buildbin-out.txt | 13-Jul-2024 06:42 | 17K | ||
buildbin-summary.dcf | 13-Jul-2024 06:42 | 527 | ||