Name | Last modified | Size | Description | |
---|---|---|---|---|
Parent Directory | - | |||
buildbin-out.txt | 03-Jul-2024 23:23 | 17K | ||
buildbin-summary.dcf | 03-Jul-2024 23:23 | 527 | ||
buildsrc-out.txt | 03-Jul-2024 23:23 | 845 | ||
buildsrc-summary.dcf | 03-Jul-2024 23:23 | 424 | ||
checksrc-out.txt | 03-Jul-2024 23:23 | 4.9K | ||
checksrc-summary.dcf | 03-Jul-2024 23:23 | 441 | ||
install-out.txt | 03-Jul-2024 23:23 | 15K | ||
install-summary.dcf | 03-Jul-2024 23:23 | 268 | ||