Name | Last modified | Size | Description | |
---|---|---|---|---|
Parent Directory | - | |||
buildbin-out.txt | 03-Jul-2024 23:22 | 76K | ||
buildbin-summary.dcf | 03-Jul-2024 23:22 | 529 | ||
buildsrc-out.txt | 03-Jul-2024 23:22 | 846 | ||
buildsrc-summary.dcf | 03-Jul-2024 23:22 | 428 | ||
checksrc-out.txt | 03-Jul-2024 23:22 | 4.8K | ||
checksrc-summary.dcf | 03-Jul-2024 23:22 | 450 | ||
install-out.txt | 03-Jul-2024 23:22 | 74K | ||
install-summary.dcf | 03-Jul-2024 23:22 | 270 | ||