Name | Last modified | Size | Description | |
---|---|---|---|---|
Parent Directory | - | |||
kunpeng2/ | 10-May-2024 00:41 | - | ||
lconway/ | 12-Jun-2024 03:42 | - | ||
kjohnson3/ | 12-Jun-2024 03:44 | - | ||
palomino3/ | 29-Jun-2024 06:42 | - | ||
info.dcf | 03-Jul-2024 23:18 | 282 | ||
nebbiolo1/ | 03-Jul-2024 23:19 | - | ||
palomino7/ | 03-Jul-2024 23:20 | - | ||
merida1/ | 03-Jul-2024 23:22 | - | ||
kjohnson1/ | 03-Jul-2024 23:23 | - | ||