Name | Last modified | Size | Description | |
---|---|---|---|---|
Parent Directory | - | |||
buildsrc-out.txt | 10-May-2024 00:41 | 903 | ||
buildsrc-summary.dcf | 10-May-2024 00:41 | 435 | ||
checksrc-out.txt | 10-May-2024 00:41 | 6.9K | ||
checksrc-summary.dcf | 10-May-2024 00:41 | 464 | ||
install-out.txt | 10-May-2024 00:41 | 133K | ||
install-summary.dcf | 10-May-2024 00:41 | 274 | ||