Name | Last modified | Size | Description | |
---|---|---|---|---|
Parent Directory | - | |||
buildbin-out.txt | 26-Jun-2024 06:41 | 1.2K | ||
buildbin-summary.dcf | 26-Jun-2024 06:41 | 617 | ||
buildsrc-out.txt | 26-Jun-2024 06:41 | 924 | ||
buildsrc-summary.dcf | 26-Jun-2024 06:41 | 520 | ||
checksrc-out.txt | 26-Jun-2024 06:41 | 3.2K | ||
checksrc-summary.dcf | 26-Jun-2024 06:41 | 515 | ||
install-out.txt | 26-Jun-2024 06:41 | 1.0K | ||
install-summary.dcf | 26-Jun-2024 06:41 | 302 | ||