Index of /checkResults/release/bioc-LATEST/Rcollectl/raw-results
Name
Last modified
Size
Description
Parent Directory
-
info.dcf
03-Jul-2024 23:18
281
kunpeng2/
10-May-2024 00:41
-
nebbiolo1/
03-Jul-2024 23:19
-