Name | Last modified | Size | Description | |
---|---|---|---|---|
Parent Directory | - | |||
buildbin-out.txt | 26-Jun-2024 06:42 | 1.6K | ||
buildbin-summary.dcf | 26-Jun-2024 06:42 | 572 | ||
buildsrc-out.txt | 26-Jun-2024 06:42 | 884 | ||
buildsrc-summary.dcf | 26-Jun-2024 06:42 | 449 | ||
checksrc-out.txt | 26-Jun-2024 06:42 | 3.2K | ||
checksrc-summary.dcf | 26-Jun-2024 06:42 | 472 | ||
install-out.txt | 26-Jun-2024 06:42 | 1.4K | ||
install-summary.dcf | 26-Jun-2024 06:42 | 283 | ||