Name | Last modified | Size | Description | |
---|---|---|---|---|
Parent Directory | - | |||
buildsrc-out.txt | 03-Jul-2024 23:19 | 840 | ||
buildsrc-summary.dcf | 03-Jul-2024 23:19 | 421 | ||
checksrc-out.txt | 03-Jul-2024 23:19 | 4.4K | ||
checksrc-summary.dcf | 03-Jul-2024 23:19 | 418 | ||
install-out.txt | 03-Jul-2024 23:19 | 8.2K | ||
install-summary.dcf | 03-Jul-2024 23:19 | 262 | ||