Index of /checkResults/release/bioc-LATEST/R3CPET/raw-results/merida1
Name
Last modified
Size
Description
Parent Directory
-
install-summary.dcf
17-Jan-2024 03:19
270
buildsrc-summary.dcf
17-Jan-2024 03:19
341
install-out.txt
17-Jan-2024 03:19
2.7K
buildsrc-out.txt
17-Jan-2024 03:19
2.9K