Index of /checkResults/release/bioc-LATEST/R3CPET/raw-results
Name
Last modified
Size
Description
Parent Directory
-
palomino7/
29-Jun-2024 06:47
-
palomino3/
29-Jun-2024 06:42
-
nebbiolo1/
29-Jun-2024 06:40
-
merida1/
17-Jan-2024 03:19
-
kunpeng2/
10-May-2024 00:41
-
info.dcf
29-Jun-2024 06:39
278