Name | Last modified | Size | Description | |
---|---|---|---|---|
Parent Directory | - | |||
buildbin-summary.dcf | 12-Jun-2024 03:44 | 555 | ||
buildbin-out.txt | 12-Jun-2024 03:44 | 4.0K | ||
checksrc-summary.dcf | 12-Jun-2024 03:44 | 466 | ||
checksrc-out.txt | 12-Jun-2024 03:44 | 8.9K | ||
buildsrc-summary.dcf | 12-Jun-2024 03:44 | 440 | ||
buildsrc-out.txt | 12-Jun-2024 03:44 | 1.1K | ||
install-summary.dcf | 12-Jun-2024 03:44 | 277 | ||
install-out.txt | 12-Jun-2024 03:44 | 3.8K | ||