Name | Last modified | Size | Description | |
---|---|---|---|---|
Parent Directory | - | |||
buildsrc-out.txt | 26-Jun-2024 06:39 | 846 | ||
buildsrc-summary.dcf | 26-Jun-2024 06:39 | 417 | ||
checksrc-out.txt | 26-Jun-2024 06:39 | 4.7K | ||
checksrc-summary.dcf | 26-Jun-2024 06:39 | 414 | ||
install-out.txt | 26-Jun-2024 06:39 | 952 | ||
install-summary.dcf | 26-Jun-2024 06:39 | 259 | ||