Index of /checkResults/release/bioc-LATEST/PDATK/raw-results/palomino7
Name
Last modified
Size
Description
Parent Directory
-
install-summary.dcf
17-Jul-2024 06:40
266
install-out.txt
17-Jul-2024 06:40
611
buildsrc-summary.dcf
17-Jul-2024 06:40
361
buildsrc-out.txt
17-Jul-2024 06:40
914