Name | Last modified | Size | Description | |
---|---|---|---|---|
Parent Directory | - | |||
buildbin-out.txt | 05-Mar-2024 01:39 | 1.8K | ||
buildbin-summary.dcf | 05-Mar-2024 01:39 | 519 | ||
buildsrc-out.txt | 26-Jun-2024 06:42 | 880 | ||
buildsrc-summary.dcf | 26-Jun-2024 06:42 | 338 | ||
checksrc-out.txt | 05-Mar-2024 01:39 | 6.8K | ||
checksrc-summary.dcf | 05-Mar-2024 01:39 | 442 | ||
install-out.txt | 26-Jun-2024 06:42 | 688 | ||
install-summary.dcf | 26-Jun-2024 06:42 | 267 | ||