Name | Last modified | Size | Description | |
---|---|---|---|---|
Parent Directory | - | |||
buildsrc-out.txt | 26-Jun-2024 06:39 | 834 | ||
buildsrc-summary.dcf | 26-Jun-2024 06:39 | 439 | ||
checksrc-out.txt | 26-Jun-2024 06:39 | 3.7K | ||
checksrc-summary.dcf | 26-Jun-2024 06:39 | 442 | ||
install-out.txt | 26-Jun-2024 06:39 | 1.0K | ||
install-summary.dcf | 26-Jun-2024 06:39 | 273 | ||