Name | Last modified | Size | Description | |
---|---|---|---|---|
Parent Directory | - | |||
buildsrc-out.txt | 03-Jul-2024 23:19 | 841 | ||
buildsrc-summary.dcf | 03-Jul-2024 23:19 | 442 | ||
checksrc-out.txt | 03-Jul-2024 23:19 | 3.3K | ||
checksrc-summary.dcf | 03-Jul-2024 23:19 | 448 | ||
install-out.txt | 03-Jul-2024 23:19 | 1.0K | ||
install-summary.dcf | 03-Jul-2024 23:19 | 276 | ||