Name | Last modified | Size | Description | |
---|---|---|---|---|
Parent Directory | - | |||
buildbin-out.txt | 03-Jul-2024 23:21 | 7.2K | ||
buildbin-summary.dcf | 03-Jul-2024 23:21 | 572 | ||
buildsrc-out.txt | 03-Jul-2024 23:21 | 772 | ||
buildsrc-summary.dcf | 03-Jul-2024 23:21 | 447 | ||
checksrc-out.txt | 03-Jul-2024 23:21 | 3.3K | ||
checksrc-summary.dcf | 03-Jul-2024 23:21 | 471 | ||
install-out.txt | 03-Jul-2024 23:21 | 7.0K | ||
install-summary.dcf | 03-Jul-2024 23:21 | 283 | ||