Name | Last modified | Size | Description | |
---|---|---|---|---|
Parent Directory | - | |||
buildsrc-out.txt | 10-May-2024 00:41 | 858 | ||
buildsrc-summary.dcf | 10-May-2024 00:41 | 436 | ||
checksrc-out.txt | 10-May-2024 00:41 | 7.5K | ||
checksrc-summary.dcf | 10-May-2024 00:41 | 467 | ||
install-out.txt | 10-May-2024 00:41 | 2.0K | ||
install-summary.dcf | 10-May-2024 00:41 | 275 | ||