Name | Last modified | Size | Description | |
---|---|---|---|---|
Parent Directory | - | |||
buildbin-summary.dcf | 17-Jul-2024 06:40 | 516 | ||
buildbin-out.txt | 17-Jul-2024 06:40 | 3.4K | ||
checksrc-summary.dcf | 17-Jul-2024 06:40 | 453 | ||
checksrc-out.txt | 17-Jul-2024 06:40 | 7.7K | ||
buildsrc-summary.dcf | 17-Jul-2024 06:40 | 452 | ||
buildsrc-out.txt | 17-Jul-2024 06:40 | 871 | ||
install-summary.dcf | 17-Jul-2024 06:40 | 268 | ||
install-out.txt | 17-Jul-2024 06:40 | 3.2K | ||