Name | Last modified | Size | Description | |
---|---|---|---|---|
Parent Directory | - | |||
buildbin-out.txt | 03-Jul-2024 23:20 | 6.0K | ||
buildbin-summary.dcf | 03-Jul-2024 23:20 | 519 | ||
buildsrc-out.txt | 03-Jul-2024 23:20 | 935 | ||
buildsrc-summary.dcf | 03-Jul-2024 23:20 | 455 | ||
checksrc-out.txt | 03-Jul-2024 23:20 | 4.4K | ||
checksrc-summary.dcf | 03-Jul-2024 23:20 | 449 | ||
install-out.txt | 03-Jul-2024 23:20 | 5.9K | ||
install-summary.dcf | 03-Jul-2024 23:20 | 270 | ||